{"text_format":"1","workbook":"xlsx","n_sheets":3,"sheets":["List1","Graf4","List2"],"not_rendered":{"charts":2,"images":0,"macros":1,"external_links":0,"defined_names":2,"comments":1,"pivot_tables":0},"unopened":[{"sheet":"Graf4","index":1,"reason":"not_a_worksheet"}],"bounds":{"document_bytes":16777216,"sheet_cells":100000,"rows_first":2000,"rows_last":500,"rows_between":2000,"halvings":0,"cell_chars":16384,"cell_head_chars":4096},"cells_cut":0,"cells_raw":0,"read":"whole","date_system":"1900"}

{"sheet":"List1","index":0,"n_rows":91,"n_cols":25,"rows_kept":91,"cut":false,"hidden":false,"merged":[]}
["Týmy","Střelec","Název","výsledek","derwen ×oheň","bubáci × jeleni","Derwen × Bubáci","ohe%n × mančaft","jeleni × vulkán","RS×jeleni","oheň×vulkán","Mančafdt×rs","vulkán×rs","mančaft × derwen","oheň × rs","derwen×jeleni","Mančaf×Vulkán","bubáci×oheň","rs×bubáci","vulkán×derwen","bubáci×mančaft","jeleni×oheň","RS×Derwen","vulůkán×bubáci","jeleni × mančaft"]
["bratr zakladatel","Svojsík",{"$f":"B2&\" \"&\"(\"&A2&\")\"","v":"Svojsík (bratr zakladatel)"},{"$f":"SUM(E2:AJ2)","v":4},1,null,null,null,null,null,null,null,null,null,null,null,null,null,2,null,null,null,null,null,1]
[null,null,{"$f":"B3&\" \"&\"(\"&A3&\")\"","v":" ()"},0]
["RS 75","Mave","Mave (RS 75)",26,null,null,null,null,null,1,null,3,5,null,1,null,null,null,3,null,null,null,13]
["RS 75","Ananas","Ananas (RS 75)",8,null,null,null,null,null,2,null,1,null,null,3,null,null,null,1,null,null,null,1]
["RS 75","Rebel","Rebel (RS 75)",9,null,null,null,null,null,1,null,4,null,null,1,null,null,null,2,null,null,null,1]
["RS 75","Rolf",{"$f":"B7&\" \"&\"(\"&A7&\")\"","v":"Rolf (RS 75)"},{"$f":"SUM(E7:AJ7)","v":9},null,null,null,null,null,null,null,1,1,null,2,null,null,null,1,null,null,null,4]
["RS 75","Párátko","Párátko (RS 75)",1,null,null,null,null,null,null,null,null,1]
["RS 75","Víťa","Víťa (RS 75)",2,null,null,null,null,null,null,null,null,1,null,null,null,null,null,null,null,null,null,1]
["RS 75",null," (RS 75)",0]
["RS 75",null," (RS 75)",0]
["RS 75",null," (RS 75)",0]
[null,null," ()",0]
["Bubáci","Pene","Pene (Bubáci)",12,null,1,5,null,null,null,null,null,null,null,null,null,null,1,1,null,4]
["Bubáci","Hruška","Hruška (Bubáci)",11,null,3,4,null,null,null,null,null,null,null,null,null,null,null,1,null,2,null,null,1]
["Bubáci","Neonek","Neonek (Bubáci)",8,null,null,8]
["Bubáci","Ďábel","Ďábel (Bubáci)",6,null,null,4,null,null,null,null,null,null,null,null,null,null,1,null,null,1]
["Bubáci","Hejkal","Hejkal (Bubáci)",3,null,null,null,null,null,null,null,null,null,null,null,null,null,null,1,null,1,null,null,1]
["Bubáci",null," (Bubáci)",0]
["Bubáci",null," (Bubáci)",0]
["Bubáci",null," (Bubáci)",0]
["Bubáci",null," (Bubáci)",0]
[null,null," ()",0]
["Zasejc Oheň","Kozel","Kozel (Zasejc Oheň)",10,2,null,null,3,null,null,1,null,null,null,1,null,null,2,null,null,null,1]
["Zasejc Oheň","Jarin","Jarin (Zasejc Oheň)",12,8,null,null,1,null,null,1,null,null,null,null,null,null,1,null,null,null,1]
["Zasejc Oheň","Zaza","Zaza (Zasejc Oheň)",6,4,null,null,null,null,null,null,null,null,null,2]
["Zasejc Oheň","Štěpán","Štěpán (Zasejc Oheň)",9,5,null,null,null,null,null,1,null,null,null,1,null,null,null,null,null,null,2]
["Zasejc Oheň","Slávek","Slávek (Zasejc Oheň)",1,1]
["Zasejc Oheň","Vítek","Vítek (Zasejc Oheň)",6,2,null,null,null,null,null,2,null,null,null,null,null,null,2]
["Zasejc Oheň",null," (Zasejc Oheň)",0]
["Zasejc Oheň",null," (Zasejc Oheň)",0]
["Zasejc Oheň",null," (Zasejc Oheň)",0]
[null,null," ()",0]
["Vulkán","Patrik","Patrik (Vulkán)",19,null,null,null,null,3,null,3,null,null,null,null,null,4,null,null,6,null,null,null,3]
["Vulkán","Dan","Dan (Vulkán)",7,null,null,null,null,1,null,1,null,null,null,null,null,1,null,null,3,null,null,null,1]
["Vulkán","Kokos","Kokos (Vulkán)",10,null,null,null,null,null,null,2,null,null,null,null,null,2,null,null,5,null,null,null,1]
["Vulkán","Woody","Woody (Vulkán)",6,null,null,null,null,null,null,null,null,1,null,null,null,2,null,null,3]
["Vulkán","Páťa","Páťa (Vulkán)",{"$f":"SUM(E38:AJ38)","v":1},null,null,null,null,null,null,null,null,1]
["Vulkán","Večerda","Večerda (Vulkán)",2,null,null,null,null,null,null,null,null,null,null,null,null,1,null,null,1]
["Vulkán",null," (Vulkán)",0]
["Vulkán",null," (Vulkán)",0]
["Vulkán",null," (Vulkán)",0]
[null,null," ()",{"$f":"SUM(E43:AJ43)","v":0}]
["Derwen","Meddie","Meddie (Derwen)",{"$f":"SUM(E44:AJ44)","v":1},1]
["Derwen","Kačka","Kačka (Derwen)",3,null,null,3]
["Derwen","Kometa","Kometa (Derwen)",2,null,null,null,null,null,null,null,null,null,1,null,null,null,null,null,null,null,null,1]
["Derwen",null," (Derwen)",0]
["Derwen",null," (Derwen)",0]
["Derwen",null," (Derwen)",0]
["Derwen",null," (Derwen)",0]
["Derwen",null," (Derwen)",0]
["Derwen",null," (Derwen)",0]
[null,null," ()",0]
["JELENI","Filip R","Filip R (JELENI)",12,null,2,null,null,1,1,null,null,null,null,null,8]
["JELENI","Ondřej","Ondřej (JELENI)",14,null,4,null,null,5,2,null,null,null,null,null,2,null,null,null,null,null,1]
["JELENI","Adam","Adam (JELENI)",6,null,1,null,null,1,null,null,null,null,null,null,1,null,null,null,null,null,1,null,null,2]
["JELENI","David","David (JELENI)",11,null,2,null,null,2,1,null,null,null,null,null,3,null,null,null,null,null,1,null,null,2]
["JELENI","Josef","Josef (JELENI)",5,null,null,null,null,null,1,null,null,null,null,null,3,null,null,null,null,null,null,null,null,1]
["JELENI","Jiří Růžička","Jiří Růžička (JELENI)",8,null,null,null,null,null,1,null,null,null,null,null,3,null,null,null,null,null,1,null,null,3]
["JELENI","Filip S.","Filip S. (JELENI)",3,null,null,null,null,null,null,null,null,null,null,null,2,null,null,null,null,null,null,null,null,1]
["JELENI","Krtek","Krtek (JELENI)",2,null,null,null,null,null,null,null,null,null,null,null,null,null,null,null,null,null,null,null,null,2]
["JELENI",null," (JELENI)",0]
[null,null," ()",0]
["Mančaft","Jantar","Jantar (Mančaft)",8,null,null,null,1,null,null,null,null,null,5,null,null,1,null,null,null,1]
["Mančaft","Ronaldo","Ronaldo (Mančaft)",16,null,null,null,3,null,null,null,3,null,4,null,null,6]
["Mančaft","Tom Brady","Tom Brady (Mančaft)",13,null,null,null,2,null,null,null,2,null,6,null,null,1,null,null,null,2]
["Mančaft","Thierry Henry","Thierry Henry (Mančaft)",7,null,null,null,null,null,null,null,1,null,3,null,null,1,null,null,null,2]
["Mančaft",null," (Mančaft)",0]
["Mančaft",null," (Mančaft)",0]
["Mančaft",null," (Mančaft)",0]
["Mančaft",null," (Mančaft)",0]
["Mančaft",null,{"$f":"B72&\" \"&\"(\"&A72&\")\"","v":" (Mančaft)"},{"$f":"SUM(E72:AJ72)","v":0}]
[null,null," ()",0]
[null,null," ()",0]
[null,null," ()",0]
[null,null," ()",0]
[null,null," ()",0]
[null,null," ()",0]
[null,null," ()",0]
[null,null," ()",0]
[null,null," ()",0]
[null,null," ()",0]
[null,null," ()",0]
[null,null," ()",0]
[null,null," ()",0]
[null,null," ()",0]
[null,null," ()",0]
[null,null," ()",0]
[null,null," ()",0]
[null,null," ()",0]
[null,null," ()",0]

{"sheet":"List2","index":2,"n_rows":110,"n_cols":2,"rows_kept":110,"cut":false,"hidden":false,"merged":[]}
["hráč","výsledek"]
[{"$f":"List1!C4","v":"Mave (RS 75)"},{"$f":"List1!D4","v":26}]
[{"$f":"List1!C34","v":"Patrik (Vulkán)"},{"$f":"List1!D34","v":19}]
[{"$f":"List1!C65","v":"Ronaldo (Mančaft)"},{"$f":"List1!D65","v":16}]
[{"$f":"List1!C55","v":"Ondřej (JELENI)"},{"$f":"List1!D55","v":14}]
[{"$f":"List1!C66","v":"Tom Brady (Mančaft)"},{"$f":"List1!D66","v":13}]
[{"$f":"List1!C54","v":"Filip R (JELENI)"},{"$f":"List1!D54","v":12}]
[{"$f":"List1!C25","v":"Jarin (Zasejc Oheň)"},{"$f":"List1!D25","v":12}]
[{"$f":"List1!C14","v":"Pene (Bubáci)"},{"$f":"List1!D14","v":12}]
[{"$f":"List1!C15","v":"Hruška (Bubáci)"},{"$f":"List1!D15","v":11}]
[{"$f":"List1!C24","v":"Kozel (Zasejc Oheň)"},{"$f":"List1!D24","v":10}]
[{"$f":"List1!C36","v":"Kokos (Vulkán)"},{"$f":"List1!D36","v":10}]
[{"$f":"List1!C27","v":"Štěpán (Zasejc Oheň)"},{"$f":"List1!D27","v":9}]
[{"$f":"List1!C6","v":"Rebel (RS 75)"},{"$f":"List1!D6","v":9}]
[{"$f":"List1!C16","v":"Neonek (Bubáci)"},{"$f":"List1!D16","v":8}]
[{"$f":"List1!C64","v":"Jantar (Mančaft)"},{"$f":"List1!D64","v":8}]
[{"$f":"List1!C5","v":"Ananas (RS 75)"},{"$f":"List1!D5","v":8}]
[{"$f":"List1!C59","v":"Jiří Růžička (JELENI)"},{"$f":"List1!D59","v":8}]
[{"$f":"List1!C67","v":"Thierry Henry (Mančaft)"},{"$f":"List1!D67","v":7}]
[{"$f":"List1!C35","v":"Dan (Vulkán)"},{"$f":"List1!D35","v":7}]
[{"$f":"List1!C26","v":"Zaza (Zasejc Oheň)"},{"$f":"List1!D26","v":6}]
[{"$f":"List1!C29","v":"Vítek (Zasejc Oheň)"},{"$f":"List1!D29","v":6}]
[{"$f":"List1!C37","v":"Woody (Vulkán)"},{"$f":"List1!D37","v":6}]
[{"$f":"List1!C17","v":"Ďábel (Bubáci)"},{"$f":"List1!D17","v":6}]
[{"$f":"List1!C56","v":"Adam (JELENI)"},{"$f":"List1!D56","v":6}]
[{"$f":"List1!C58","v":"Josef (JELENI)"},{"$f":"List1!D58","v":5}]
[{"$f":"List1!C2","v":"Svojsík (bratr zakladatel)"},{"$f":"List1!D2","v":4}]
[{"$f":"List1!C45","v":"Kačka (Derwen)"},{"$f":"List1!D45","v":3}]
[{"$f":"List1!C18","v":"Hejkal (Bubáci)"},{"$f":"List1!D18","v":3}]
[{"$f":"List1!C60","v":"Filip S. (JELENI)"},{"$f":"List1!D60","v":3}]
[{"$f":"List1!C39","v":"Večerda (Vulkán)"},{"$f":"List1!D39","v":2}]
[{"$f":"List1!C46","v":"Kometa (Derwen)"},{"$f":"List1!D46","v":2}]
[{"$f":"List1!C61","v":"Krtek (JELENI)"},{"$f":"List1!D61","v":2}]
[{"$f":"List1!C28","v":"Slávek (Zasejc Oheň)"},{"$f":"List1!D28","v":1}]
[{"$f":"List1!C38","v":"Páťa (Vulkán)"},{"$f":"List1!D38","v":1}]
[{"$f":"List1!C44","v":"Meddie (Derwen)"},{"$f":"List1!D44","v":1}]
[{"$f":"List1!C79","v":" ()"},{"$f":"List1!D79","v":0}]
[{"$f":"List1!C80","v":" ()"},{"$f":"List1!D80","v":0}]
[{"$f":"List1!C81","v":" ()"},{"$f":"List1!D81","v":0}]
[{"$f":"List1!C51","v":" (Derwen)"},{"$f":"List1!D51","v":0}]
[{"$f":"List1!C31","v":" (Zasejc Oheň)"},{"$f":"List1!D31","v":0}]
[{"$f":"List1!C68","v":" (Mančaft)"},{"$f":"List1!D68","v":0}]
[{"$f":"List1!C13","v":" ()"},{"$f":"List1!D13","v":0}]
[{"$f":"List1!C53","v":" ()"},{"$f":"List1!D53","v":0}]
[{"$f":"List1!C83","v":" ()"},{"$f":"List1!D83","v":0}]
[{"$f":"List1!C82","v":" ()"},{"$f":"List1!D82","v":0}]
[{"$f":"List1!C84","v":" ()"},{"$f":"List1!D84","v":0}]
[{"$f":"List1!C40","v":" (Vulkán)"},{"$f":"List1!D40","v":0}]
[{"$f":"List1!C3","v":" ()"},{"$f":"List1!D3","v":0}]
[{"$f":"List1!C12","v":" (RS 75)"},{"$f":"List1!D12","v":0}]
[{"$f":"List1!C52","v":" (Derwen)"},{"$f":"List1!D52","v":0}]
[{"$f":"List1!C86","v":" ()"},{"$f":"List1!D86","v":0}]
[{"$f":"List1!C85","v":" ()"},{"$f":"List1!D85","v":0}]
[{"$f":"List1!C41","v":" (Vulkán)"},{"$f":"List1!D41","v":0}]
[{"$f":"List1!C11","v":" (RS 75)"},{"$f":"List1!D11","v":0}]
[{"$f":"List1!C22","v":" (Bubáci)"},{"$f":"List1!D22","v":0}]
[{"$f":"List1!C10","v":" (RS 75)"},{"$f":"List1!D10","v":0}]
[{"$f":"List1!C19","v":" (Bubáci)"},{"$f":"List1!D19","v":0}]
[{"$f":"List1!C20","v":" (Bubáci)"},{"$f":"List1!D20","v":0}]
[{"$f":"List1!C30","v":" (Zasejc Oheň)"},{"$f":"List1!D30","v":0}]
[{"$f":"List1!C21","v":" (Bubáci)"},{"$f":"List1!D21","v":0}]
[{"$f":"List1!C23","v":" ()"},{"$f":"List1!D23","v":0}]
[{"$f":"List1!C62","v":" (JELENI)"},{"$f":"List1!D62","v":0}]
[{"$f":"List1!C47","v":" (Derwen)"},{"$f":"List1!D47","v":0}]
[{"$f":"List1!C42","v":" (Vulkán)"},{"$f":"List1!D42","v":0}]
[{"$f":"List1!C49","v":" (Derwen)"},{"$f":"List1!D49","v":0}]
[{"$f":"List1!C48","v":" (Derwen)"},{"$f":"List1!D48","v":0}]
[{"$f":"List1!C50","v":" (Derwen)"},{"$f":"List1!D50","v":0}]
[{"$f":"List1!C33","v":" ()"},{"$f":"List1!D33","v":0}]
[{"$f":"List1!C32","v":" (Zasejc Oheň)"},{"$f":"List1!D32","v":0}]
[{"$f":"List1!C43","v":" ()"},{"$f":"List1!D43","v":0}]
[{"$f":"List1!C77","v":" ()"},{"$f":"List1!D77","v":0}]
[{"$f":"List1!C63","v":" ()"},{"$f":"List1!D63","v":0}]
[{"$f":"List1!C74","v":" ()"},{"$f":"List1!D74","v":0}]
[{"$f":"List1!C73","v":" ()"},{"$f":"List1!D73","v":0}]
[{"$f":"List1!C72","v":" (Mančaft)"},{"$f":"List1!D72","v":0}]
[{"$f":"List1!C76","v":" ()"},{"$f":"List1!D76","v":0}]
[{"$f":"List1!C78","v":" ()"},{"$f":"List1!D78","v":0}]
[{"$f":"List1!C90","v":" ()"},{"$f":"List1!D90","v":0}]
[{"$f":"List1!C70","v":" (Mančaft)"},{"$f":"List1!D70","v":0}]
[{"$f":"List1!C75","v":" ()"},{"$f":"List1!D75","v":0}]
[{"$f":"List1!C88","v":" ()"},{"$f":"List1!D88","v":0}]
[{"$f":"List1!C69","v":" (Mančaft)"},{"$f":"List1!D69","v":0}]
[{"$f":"List1!C71","v":" (Mančaft)"},{"$f":"List1!D71","v":0}]
[{"$f":"List1!C89","v":" ()"},{"$f":"List1!D89","v":0}]
[{"$f":"List1!C91","v":" ()"},{"$f":"List1!D91","v":0}]
[{"$f":"List1!C87","v":" ()"},{"$f":"List1!D87","v":0}]
[{"$f":"List1!C95","v":0},{"$f":"List1!D95","v":0}]
[{"$f":"List1!C93","v":0},{"$f":"List1!D93","v":0}]
[{"$f":"List1!C92","v":0},{"$f":"List1!D92","v":0}]
[{"$f":"List1!C96","v":0},{"$f":"List1!D96","v":0}]
[{"$f":"List1!C97","v":0},{"$f":"List1!D97","v":0}]
[{"$f":"List1!C98","v":0},{"$f":"List1!D98","v":0}]
[{"$f":"List1!C99","v":0},{"$f":"List1!D99","v":0}]
[{"$f":"List1!C100","v":0},{"$f":"List1!D100","v":0}]
[{"$f":"List1!C101","v":0},{"$f":"List1!D101","v":0}]
[{"$f":"List1!C102","v":0},{"$f":"List1!D102","v":0}]
[{"$f":"List1!C103","v":0},{"$f":"List1!D103","v":0}]
[{"$f":"List1!C104","v":0},{"$f":"List1!D104","v":0}]
[{"$f":"List1!C105","v":0},{"$f":"List1!D105","v":0}]
[{"$f":"List1!C106","v":0},{"$f":"List1!D106","v":0}]
[{"$f":"List1!C107","v":0},{"$f":"List1!D107","v":0}]
[{"$f":"List1!C108","v":0},{"$f":"List1!D108","v":0}]
[{"$f":"List1!C109","v":0},{"$f":"List1!D109","v":0}]
[{"$f":"List1!C110","v":0},{"$f":"List1!D110","v":0}]
[{"$f":"List1!C111","v":0},{"$f":"List1!D111","v":0}]
[{"$f":"List1!C112","v":0},{"$f":"List1!D112","v":0}]
[{"$f":"List1!C113","v":0},{"$f":"List1!D113","v":0}]
[{"$f":"List1!C114","v":0},{"$f":"List1!D114","v":0}]
[{"$f":"List1!C115","v":0},{"$f":"List1!D115","v":0}]